BEGIN:VCALENDAR
VERSION:2.0
PRODID:-//FECODEV - ECPv6.0.6.2//NONSGML v1.0//EN
CALSCALE:GREGORIAN
METHOD:PUBLISH
X-ORIGINAL-URL:https://fecodev.org
X-WR-CALDESC:Events for FECODEV
REFRESH-INTERVAL;VALUE=DURATION:PT1H
X-Robots-Tag:noindex
X-PUBLISHED-TTL:PT1H
BEGIN:VTIMEZONE
TZID:Europe/Paris
BEGIN:DAYLIGHT
TZOFFSETFROM:+0100
TZOFFSETTO:+0200
TZNAME:CEST
DTSTART:20230326T010000
END:DAYLIGHT
BEGIN:STANDARD
TZOFFSETFROM:+0200
TZOFFSETTO:+0100
TZNAME:CET
DTSTART:20231029T010000
END:STANDARD
END:VTIMEZONE
BEGIN:VEVENT
DTSTART;TZID=Europe/Paris:20230310T180000
DTEND;TZID=Europe/Paris:20230310T200000
DTSTAMP:20260422T130329
CREATED:20230221T092401Z
LAST-MODIFIED:20230221T092734Z
UID:1596-1678471200-1678478400@fecodev.org
SUMMARY:Journée Internationale des Femmes : Evénement Parallèle de FECODEV à la CSW67
DESCRIPTION:La Plateforme Femmes et Contribution au Développement (FECODEV) vous invite à son évènement parallèle qu’elle organise sur le thème : « Femmes des diasporas africaines engagées pour « One Health » : Education et Numérique » le : Vendredi 10 mars 2023 de 18h00 à 20h00 (CET) soit 17h00 à 19h00 (GMT)\, en Visioconférence (Zoom pour FECODEV) et sur la Plateforme de NGO CSW/NY. \nParce qu’il nous semble plus que jamais\, important d’aborder le sujet autour des liens étroits entre la santé humaine\, celle des animaux\, des insectes\, des plantes et l’état écologique global\, que cette table ronde sera l’occasion d’éveiller les consciences et de mettre en lumière le concept « One Health »\, « Une Santé » en français.  \nDe plus\, l’évènement permettra d’aborder dans une approche Genre\, des questions autour de l’éducation via les nouvelles technologies du numérique pour faciliter les actions de prévention dans la lutte contre les maladies telles que le Paludisme ou Ebola transmises à l’humain\, l’une et l’autre par les moustiques et les chauves-souris…faisant écho aux Objectifs de Développement Durable (ODD 2\, 3\, 4\, 5\, 6\, 13 et 15).
URL:https://fecodev.org/event/side-event-csw67/
LOCATION:Visio CSW67
CATEGORIES:Evènement FECODEV
ATTACH;FMTTYPE=image/png:https://fecodev.org/wp-content/uploads/2023/02/Final-Flyer-FECODEV-CSW67-One-health-1.png
ORGANIZER;CN="FECODEV":MAILTO:contact@fecodev.org
END:VEVENT
END:VCALENDAR