BEGIN:VCALENDAR
VERSION:2.0
PRODID:-//FECODEV - ECPv6.0.6.2//NONSGML v1.0//EN
CALSCALE:GREGORIAN
METHOD:PUBLISH
X-WR-CALNAME:FECODEV
X-ORIGINAL-URL:https://fecodev.org
X-WR-CALDESC:Events for FECODEV
REFRESH-INTERVAL;VALUE=DURATION:PT1H
X-Robots-Tag:noindex
X-PUBLISHED-TTL:PT1H
BEGIN:VTIMEZONE
TZID:America/New_York
BEGIN:DAYLIGHT
TZOFFSETFROM:-0500
TZOFFSETTO:-0400
TZNAME:EDT
DTSTART:20200308T070000
END:DAYLIGHT
BEGIN:STANDARD
TZOFFSETFROM:-0400
TZOFFSETTO:-0500
TZNAME:EST
DTSTART:20201101T060000
END:STANDARD
END:VTIMEZONE
BEGIN:VEVENT
DTSTART;TZID=America/New_York:20200311T181500
DTEND;TZID=America/New_York:20200311T190000
DTSTAMP:20260425T224720
CREATED:20200209T230634Z
LAST-MODIFIED:20200209T230634Z
UID:1280-1583950500-1583953200@fecodev.org
SUMMARY:CSW64 / Beijing+25 et 5 ans des ODD : Retrouvez FECODEV à son Side Event aux Nations Unies à New-York
DESCRIPTION:La soixante-quatrième session de la Commission de la condition de la femme (CSW64) se tiendra au siège des Nations Unies à New York du 9 au 20 mars 2020. \nReprésenté par une forte délégation\, le Réseau Femmes et Contributions au Développement [FECODEV]\, proposera un Side Event sur le thème : « Mobilité des compétences des femmes migrantes et des diasporas: Agir ensemble pour les Objectifs de Développement Durable (ODD) en Afrique»\, le 11 Mars 2020 à 18h15 à Armenian Convention Center – Vartan Hall – 630 2nd Ave\, New York (NY)\, 10016\, États-Unis. \nL’objectif général de cet événement sera de faire connaître et reconnaître l’apport positif des femmes migrantes et des diasporas et promouvoir\, à travers la dynamique de la mobilité de leurs compétences et savoir- faire\, leur capacité à être des actrices efficaces pouvant contribuer aux ODD en Afrique. \n  \n \n  \n \nEn savoir plus
URL:https://fecodev.org/event/fecodev-csw64/
LOCATION:Armenian Convention Center\, Vartan Hall\, 630 2nd Avenue\, New York (NY)\, 10016\, USA
CATEGORIES:Evènement FECODEV
ATTACH;FMTTYPE=image/png:https://fecodev.org/wp-content/uploads/2020/02/CSW64-banner.png
ORGANIZER;CN="FECODEV":MAILTO:contact@fecodev.org
END:VEVENT
END:VCALENDAR