BEGIN:VCALENDAR
VERSION:2.0
PRODID:-//FECODEV - ECPv6.0.6.2//NONSGML v1.0//EN
CALSCALE:GREGORIAN
METHOD:PUBLISH
X-ORIGINAL-URL:https://fecodev.org
X-WR-CALDESC:Events for FECODEV
REFRESH-INTERVAL;VALUE=DURATION:PT1H
X-Robots-Tag:noindex
X-PUBLISHED-TTL:PT1H
BEGIN:VTIMEZONE
TZID:Europe/Paris
BEGIN:DAYLIGHT
TZOFFSETFROM:+0100
TZOFFSETTO:+0200
TZNAME:CEST
DTSTART:20210328T010000
END:DAYLIGHT
BEGIN:STANDARD
TZOFFSETFROM:+0200
TZOFFSETTO:+0100
TZNAME:CET
DTSTART:20211031T010000
END:STANDARD
END:VTIMEZONE
BEGIN:VEVENT
DTSTART;TZID=Europe/Paris:20211202T190000
DTEND;TZID=Europe/Paris:20211202T203000
DTSTAMP:20260423T132542
CREATED:20211127T101354Z
LAST-MODIFIED:20211127T104400Z
UID:1514-1638471600-1638477000@fecodev.org
SUMMARY:Lancement des soirées FECODEV: Agenda 2030 (ODD) et Agenda 2063
DESCRIPTION:Le réseau FECODEV convie ses membres et sympathisants à ses 4 soirées en visioconférence pour informer sur : \n\nl’Agenda 2030 autour des 17 Objectifs de Développement Durable (ODD) des Nations unies et\,\nl’Agenda 2063 autour des 6 Aspirations de l’Union Africaine.\n\nSave the date: de 19h à 20h30 CET (GMT+1) \n\nJeudi 2 Décembre 2021 : Echanges autour des ODD 1\, 2\, 3\, 4.\nJeudi 9 Décembre 2021 : Echanges autour des ODD 5\, 6\, 7\, 8.\nJeudi 16 Décembre 2021 : Echanges autour des ODD 9\, 10\, 11\, 12.\nJeudi 23 Décembre 2021 : Echanges autour des ODD 13\, 14\, 15\, 16.\n\n \nParticipation gratuite via https://join.freeconferencecall.com/fecodev0 \nContact et informations sur contact@fecodev.org
URL:https://fecodev.org/event/soiree-odd/
LOCATION:Visio conférence
CATEGORIES:Evènement FECODEV
ATTACH;FMTTYPE=image/png:https://fecodev.org/wp-content/uploads/2021/11/Soirees-FECODEV-Agenda-2030-Agenda-2063.png
ORGANIZER;CN="FECODEV":MAILTO:contact@fecodev.org
END:VEVENT
BEGIN:VEVENT
DTSTART;TZID=Europe/Paris:20211209T190000
DTEND;TZID=Europe/Paris:20211209T203000
DTSTAMP:20260423T132542
CREATED:20211127T102740Z
LAST-MODIFIED:20211127T104444Z
UID:1519-1639076400-1639081800@fecodev.org
SUMMARY:Soirée FECODEV: Echanges autour des ODD 5\, 6\, 7\, 8
DESCRIPTION:Le réseau FECODEV convie ses membres et sympathisants à ses 4 soirées en visioconférence pour informer sur : \n\nl’Agenda 2030 autour des 17 Objectifs de Développement Durable (ODD) des Nations unies et\,\nl’Agenda 2063 autour des 6 Aspirations de l’Union Africaine.\n\nSave the date: de 19h à 20h30 CET (GMT+1) \n\nJeudi 2 Décembre 2021 : Echanges autour des ODD 1\, 2\, 3\, 4.\nJeudi 9 Décembre 2021 : Echanges autour des ODD 5\, 6\, 7\, 8.\nJeudi 16 Décembre 2021 : Echanges autour des ODD 9\, 10\, 11\, 12.\nJeudi 23 Décembre 2021 : Echanges autour des ODD 13\, 14\, 15\, 16.\n\nParticipation gratuite via https://join.freeconferencecall.com/fecodev0 \nContact et informations sur contact@fecodev.org
URL:https://fecodev.org/event/soiree-odd-2/
LOCATION:Visio conférence
CATEGORIES:Evènement FECODEV
ATTACH;FMTTYPE=image/png:https://fecodev.org/wp-content/uploads/2021/11/Soiree-2-Dec-9.png
ORGANIZER;CN="FECODEV":MAILTO:contact@fecodev.org
END:VEVENT
BEGIN:VEVENT
DTSTART;TZID=Europe/Paris:20211216T190000
DTEND;TZID=Europe/Paris:20211216T203000
DTSTAMP:20260423T132542
CREATED:20211127T102906Z
LAST-MODIFIED:20211127T104432Z
UID:1525-1639681200-1639686600@fecodev.org
SUMMARY:Soirée FECODEV: Echanges autour des ODD 9\, 10\, 11\, 12
DESCRIPTION:Le réseau FECODEV convie ses membres et sympathisants à ses 4 soirées en visioconférence pour informer sur : \n\nl’Agenda 2030 autour des 17 Objectifs de Développement Durable (ODD) des Nations unies et\,\nl’Agenda 2063 autour des 6 Aspirations de l’Union Africaine.\n\nSave the date: de 19h à 20h30 CET (GMT+1) \n\nJeudi 2 Décembre 2021 : Echanges autour des ODD 1\, 2\, 3\, 4.\nJeudi 9 Décembre 2021 : Echanges autour des ODD 5\, 6\, 7\, 8.\nJeudi 16 Décembre 2021 : Echanges autour des ODD 9\, 10\, 11\, 12.\nJeudi 23 Décembre 2021 : Echanges autour des ODD 13\, 14\, 15\, 16.\n\nParticipation gratuite via https://join.freeconferencecall.com/fecodev0 \nContact et informations sur contact@fecodev.org
URL:https://fecodev.org/event/soiree-odd-3/
LOCATION:Visio conférence
CATEGORIES:Evènement FECODEV
ATTACH;FMTTYPE=image/png:https://fecodev.org/wp-content/uploads/2021/11/Soiree-3-Dec-16.png
ORGANIZER;CN="FECODEV":MAILTO:contact@fecodev.org
END:VEVENT
BEGIN:VEVENT
DTSTART;TZID=Europe/Paris:20211223T190000
DTEND;TZID=Europe/Paris:20211223T203000
DTSTAMP:20260423T132542
CREATED:20211127T103038Z
LAST-MODIFIED:20211127T104425Z
UID:1527-1640286000-1640291400@fecodev.org
SUMMARY:Soirée FECODEV: Echanges autour des ODD 13\, 14\, 15\, 16
DESCRIPTION:Le réseau FECODEV convie ses membres et sympathisants à ses 4 soirées en visioconférence pour informer sur : \n\nl’Agenda 2030 autour des 17 Objectifs de Développement Durable (ODD) des Nations unies et\,\nl’Agenda 2063 autour des 6 Aspirations de l’Union Africaine.\n\nSave the date: de 19h à 20h30 CET (GMT+1) \n\nJeudi 2 Décembre 2021 : Echanges autour des ODD 1\, 2\, 3\, 4.\nJeudi 9 Décembre 2021 : Echanges autour des ODD 5\, 6\, 7\, 8.\nJeudi 16 Décembre 2021 : Echanges autour des ODD 9\, 10\, 11\, 12.\nJeudi 23 Décembre 2021 : Echanges autour des ODD 13\, 14\, 15\, 16.\n\nParticipation gratuite via https://join.freeconferencecall.com/fecodev0 \nContact et informations sur contact@fecodev.org
URL:https://fecodev.org/event/soiree-odd-4/
LOCATION:Visio conférence
CATEGORIES:Evènement FECODEV
ATTACH;FMTTYPE=image/png:https://fecodev.org/wp-content/uploads/2021/11/Soiree-4-Dec-23.png
ORGANIZER;CN="FECODEV":MAILTO:contact@fecodev.org
END:VEVENT
END:VCALENDAR